BEGIN:VCALENDAR
PRODID:-//eluceo/ical//2.0/EN
VERSION:2.0
CALSCALE:GREGORIAN
BEGIN:VEVENT
UID:625bbabd54ebfcc0ea36c0d498af09d5
DTSTAMP:20260423T081042Z
SUMMARY:Shabbat Mevarchim
DESCRIPTION:Jewish Federation of the Greater San Gabriel & Pomona Valleys\n
 COMMUNITY CALENDAR\nhttps://jewishsgpv.org/calendar/shabbat-mevarchim-May\
 n\n
DTSTART;TZID=America/Los_Angeles:20240504T100000
DTEND;TZID=America/Los_Angeles:20240504T130000
END:VEVENT
END:VCALENDAR
