BEGIN:VCALENDAR
PRODID:-//eluceo/ical//2.0/EN
VERSION:2.0
CALSCALE:GREGORIAN
BEGIN:VEVENT
UID:4baa94be00994867c68142b1c3c19c64
DTSTAMP:20260419T172916Z
SUMMARY:Shabbat Mevarchim
DESCRIPTION:Jewish Federation of the Greater San Gabriel & Pomona Valleys\n
 COMMUNITY CALENDAR\nhttps://jewishsgpv.org/calendar/shabbat-mevarchim-Jun\
 n\n
DTSTART;TZID=America/Los_Angeles:20240601T100000
DTEND;TZID=America/Los_Angeles:20240601T130000
END:VEVENT
END:VCALENDAR
