BEGIN:VCALENDAR
PRODID:-//eluceo/ical//2.0/EN
VERSION:2.0
CALSCALE:GREGORIAN
BEGIN:VEVENT
UID:532ee9b37f20a8b34584dd5124d43de4
DTSTAMP:20260421T193324Z
SUMMARY:Shabbat Mevarchim
DESCRIPTION:Jewish Federation of the Greater San Gabriel & Pomona Valleys\n
 COMMUNITY CALENDAR\nhttps://jewishsgpv.org/calendar/shabbat-mevarchim-Dec\
 n\n
DTSTART;TZID=America/Los_Angeles:20231209T100000
DTEND;TZID=America/Los_Angeles:20231209T130000
END:VEVENT
END:VCALENDAR
