BEGIN:VCALENDAR
PRODID:-//eluceo/ical//2.0/EN
VERSION:2.0
CALSCALE:GREGORIAN
BEGIN:VEVENT
UID:8b8a10d1bda8db150b52d54491e26544
DTSTAMP:20260424T233712Z
SUMMARY:Shabbat Mevarchim
DESCRIPTION:Jewish Federation of the Greater San Gabriel & Pomona Valleys\n
 COMMUNITY CALENDAR\nhttps://jewishsgpv.org/calendar/shabbat-mevarchim-Apr\
 n\n
DTSTART;TZID=America/Los_Angeles:20240406T100000
DTEND;TZID=America/Los_Angeles:20240406T130000
END:VEVENT
END:VCALENDAR
