BEGIN:VCALENDAR
PRODID:-//eluceo/ical//2.0/EN
VERSION:2.0
CALSCALE:GREGORIAN
BEGIN:VEVENT
UID:daedcb2c12664e6b59359330e03e07ee
DTSTAMP:20260419T181729Z
SUMMARY:Shabbat Mevarchim
DESCRIPTION:Jewish Federation of the Greater San Gabriel & Pomona Valleys\n
 COMMUNITY CALENDAR\nhttps://jewishsgpv.org/calendar/shabbat-mevarchim\n\n
DTSTART;TZID=America/Los_Angeles:20230617T100000
DTEND;TZID=America/Los_Angeles:20230617T130000
END:VEVENT
END:VCALENDAR
