BEGIN:VCALENDAR
PRODID:-//eluceo/ical//2.0/EN
VERSION:2.0
CALSCALE:GREGORIAN
BEGIN:VEVENT
UID:8fd283c9b030cb1a3ac18a101542961d
DTSTAMP:20260425T191330Z
SUMMARY:Shabbat Hanukkah Evening Service at Beth Shalom of Whittier
DESCRIPTION:Jewish Federation of the Greater San Gabriel & Pomona Valleys\n
 COMMUNITY CALENDAR\nhttps://jewishsgpv.org/calendar/shabbat-hanukkah-eveni
 ng-service\n\nJoin Hazzan Lance H Tapper\, Hon DMus\, Spiritual Leader and
  Ty Woodward\, Organist for our annual Shabbat Hanukkah service.  The Han
 ukkiah will be lit along with our Shabbat candles and the liturgy of Hanuk
 kah will be a part of the Shabbat service including the alternate Maoz Tzu
 r written down by the Italian composer\, Benedetto Marcello as well as the
  more well known Maoz Tzur tune from Germany. \n\n \n\nAll are invited t
 o attend!
DTSTART;TZID=America/Los_Angeles:20241227T192500
DTEND;TZID=America/Los_Angeles:20241227T205000
END:VEVENT
END:VCALENDAR
