BEGIN:VCALENDAR
PRODID:-//eluceo/ical//2.0/EN
VERSION:2.0
CALSCALE:GREGORIAN
BEGIN:VEVENT
UID:f0cb00cea08642984a2aeae813c57878
DTSTAMP:20260425T194645Z
SUMMARY:Shabbat Evening Services at Beth Shalom of Whittier
DESCRIPTION:Jewish Federation of the Greater San Gabriel & Pomona Valleys\n
 COMMUNITY CALENDAR\nhttps://jewishsgpv.org/calendar/shabbat-evening-servic
 es\n\nShabbat Evening Services conducted by Hazzan Lance H Tapper\, Hon DM
 us\, Spiritual Leader and Ty Woodward\, Organist.  An oneg will follow th
 e service in our foyer.
DTSTART;TZID=America/Los_Angeles:20241115T192500
DTEND;TZID=America/Los_Angeles:20241115T204500
END:VEVENT
END:VCALENDAR
