BEGIN:VCALENDAR
PRODID:-//eluceo/ical//2.0/EN
VERSION:2.0
CALSCALE:GREGORIAN
BEGIN:VEVENT
UID:25ea59c0a9979dbc36817b019d9afa0d
DTSTAMP:20260419T174609Z
SUMMARY:Selichot at Temple Beth Israel Highland Park & Eagle Rock
DESCRIPTION:Jewish Federation of the Greater San Gabriel & Pomona Valleys\n
 COMMUNITY CALENDAR\nhttps://jewishsgpv.org/calendar/selichot-at-temple-bet
 h-israel-highland-park-eagle-rock\n\n
DTSTART;TZID=America/Los_Angeles:20230909T200000
DTEND;TZID=America/Los_Angeles:20230909T210000
END:VEVENT
END:VCALENDAR
