BEGIN:VCALENDAR
PRODID:-//eluceo/ical//2.0/EN
VERSION:2.0
CALSCALE:GREGORIAN
BEGIN:VEVENT
UID:5826c05f82c20b22c19add16a3742ade
DTSTAMP:20260420T121900Z
SUMMARY:Secrets of the Bible
DESCRIPTION:Jewish Federation of the Greater San Gabriel & Pomona Valleys\n
 COMMUNITY CALENDAR\nhttps://jewishsgpv.org/calendar/secrets-of-the-bible-c
 habad-inland-empire\n\n Iconic Stories\, Mystical Meanings\, and their les
 sons for life\n\nMeeting ID:  788 3895 0966\n\nPassword: chabad
DTSTART;TZID=America/Los_Angeles:20201028T193000
DTEND;TZID=America/Los_Angeles:20201028T210000
END:VEVENT
END:VCALENDAR
