BEGIN:VCALENDAR
PRODID:-//eluceo/ical//2.0/EN
VERSION:2.0
CALSCALE:GREGORIAN
BEGIN:VEVENT
UID:af46f6479e92d320929a877dddc8bbcf
DTSTAMP:20260422T030240Z
SUMMARY:Secrets of the Bible Online Course
DESCRIPTION:Jewish Federation of the Greater San Gabriel & Pomona Valleys\n
 COMMUNITY CALENDAR\nhttps://jewishsgpv.org/calendar/secrets-of-the-bible\n
 \nA lush garden...a snake...forbidden fruit...temptation...the sin of know
 ledge...shame...mortality...\n\nWhat is really going on?\n\nRevisit six se
 emingly absurd stories you likely remember from Hebrew school. Uncover the
 ir hidden themes and eye-opening insights into the mysteries of life.\n~ W
 hat is the deeper meaning behind these stories?\n~ How did they shape the 
 Jewish worldview?\n~ What wisdom do they hold for you today?\n\nSign up fo
 r a thought-provoking experience\, sure to deepen your u...
DTSTART;TZID=America/Los_Angeles:20201028T193000
DTEND;TZID=America/Los_Angeles:20201028T210000
END:VEVENT
END:VCALENDAR
