BEGIN:VCALENDAR
PRODID:-//eluceo/ical//2.0/EN
VERSION:2.0
CALSCALE:GREGORIAN
BEGIN:VEVENT
UID:e5ee181488eea0fc6767f98efb0467dc
DTSTAMP:20260423T000849Z
SUMMARY:Second Annual Purim Story Walk in the Park
DESCRIPTION:Jewish Federation of the Greater San Gabriel & Pomona Valleys\n
 COMMUNITY CALENDAR\nhttps://jewishsgpv.org/calendar/second-annual-purim-st
 ory-walk-in-the-park\n\n
DTSTART;TZID=America/Los_Angeles:20230305T103000
DTEND;TZID=America/Los_Angeles:20230305T123000
END:VEVENT
END:VCALENDAR
