BEGIN:VCALENDAR
PRODID:-//eluceo/ical//2.0/EN
VERSION:2.0
CALSCALE:GREGORIAN
BEGIN:VEVENT
UID:8f097a511a7dcbbfe26a53b2c8f8c718
DTSTAMP:20260422T060834Z
SUMMARY:Rosh Hashanah Street Fair
DESCRIPTION:Jewish Federation of the Greater San Gabriel & Pomona Valleys\n
 COMMUNITY CALENDAR\nhttps://jewishsgpv.org/calendar/rosh-hashanah-street-f
 air\n\n
DTSTART;TZID=America/Los_Angeles:20230910T100000
DTEND;TZID=America/Los_Angeles:20230910T120000
END:VEVENT
END:VCALENDAR
