BEGIN:VCALENDAR
PRODID:-//eluceo/ical//2.0/EN
VERSION:2.0
CALSCALE:GREGORIAN
BEGIN:VEVENT
UID:36830d9d53429dc0b4520cef49c04d6d
DTSTAMP:20260426T031323Z
SUMMARY:Rosh Hashanah Services
DESCRIPTION:Jewish Federation of the Greater San Gabriel & Pomona Valleys\n
 COMMUNITY CALENDAR\nhttps://jewishsgpv.org/calendar/rosh-hashanah-service\
 n\n
DTSTART;TZID=America/Los_Angeles:20241003T193000
DTEND;TZID=America/Los_Angeles:20241003T220000
END:VEVENT
END:VCALENDAR
