BEGIN:VCALENDAR
PRODID:-//eluceo/ical//2.0/EN
VERSION:2.0
CALSCALE:GREGORIAN
BEGIN:VEVENT
UID:9a17b0c36d911933ad29889bd95b63bd
DTSTAMP:20260424T231656Z
SUMMARY:Rosh Hashanah Evening Services
DESCRIPTION:Jewish Federation of the Greater San Gabriel & Pomona Valleys\n
 COMMUNITY CALENDAR\nhttps://jewishsgpv.org/calendar/rosh-hashanah-evening-
 services\n\n
DTSTART;TZID=America/Los_Angeles:20230916T193000
DTEND;TZID=America/Los_Angeles:20230916T213000
END:VEVENT
END:VCALENDAR
