BEGIN:VCALENDAR
PRODID:-//eluceo/ical//2.0/EN
VERSION:2.0
CALSCALE:GREGORIAN
BEGIN:VEVENT
UID:60e52f447ed85c2a47ad71b24f5694b5
DTSTAMP:20260423T001635Z
SUMMARY:Rosh Hashanah Day 1 at Temple Beth Israel Highland Park & Eagle Roc
 k
DESCRIPTION:Jewish Federation of the Greater San Gabriel & Pomona Valleys\n
 COMMUNITY CALENDAR\nhttps://jewishsgpv.org/calendar/rosh-hashanah-day-1-at
 -temple-beth-israel-highland-park-eagle-rock\n\n
DTSTART;TZID=America/Los_Angeles:20230916T090000
DTEND;TZID=America/Los_Angeles:20230916T110000
END:VEVENT
END:VCALENDAR
