BEGIN:VCALENDAR
PRODID:-//eluceo/ical//2.0/EN
VERSION:2.0
CALSCALE:GREGORIAN
BEGIN:VEVENT
UID:8d6f63b07bb64f5107f91997e0ee8e2b
DTSTAMP:20260422T101035Z
SUMMARY:Rosh Hashanah Community Dinner
DESCRIPTION:Jewish Federation of the Greater San Gabriel & Pomona Valleys\n
 COMMUNITY CALENDAR\nhttps://jewishsgpv.org/calendar/rosh-hashanah-communit
 y-dinner\n\n
DTSTART;TZID=America/Los_Angeles:20220925T000000
DTEND;TZID=America/Los_Angeles:20220925T213000
END:VEVENT
END:VCALENDAR
