BEGIN:VCALENDAR
PRODID:-//eluceo/ical//2.0/EN
VERSION:2.0
CALSCALE:GREGORIAN
BEGIN:VEVENT
UID:26cf4683d5f9ef4a7de4382f6db5d41b
DTSTAMP:20260423T134520Z
SUMMARY:Rosh Chodesh Tammuz
DESCRIPTION:Jewish Federation of the Greater San Gabriel & Pomona Valleys\n
 COMMUNITY CALENDAR\nhttps://jewishsgpv.org/calendar/rosh-chodesh-tammuz\n\
 n
DTSTART;TZID=America/Los_Angeles:20250627T193000
DTEND;TZID=America/Los_Angeles:20250627T213000
END:VEVENT
END:VCALENDAR
