BEGIN:VCALENDAR
PRODID:-//eluceo/ical//2.0/EN
VERSION:2.0
CALSCALE:GREGORIAN
BEGIN:VEVENT
UID:af923bf469568b9edb490b2319c8f7d3
DTSTAMP:20260425T151835Z
SUMMARY:Rebuilding Judaica Event
DESCRIPTION:Jewish Federation of the Greater San Gabriel & Pomona Valleys\n
 COMMUNITY CALENDAR\nhttps://jewishsgpv.org/calendar/rebuilding-judaica-eve
 nt-Sunday\n\n
DTSTART;TZID=America/Los_Angeles:20250622T110000
DTEND;TZID=America/Los_Angeles:20250622T160000
END:VEVENT
END:VCALENDAR
