BEGIN:VCALENDAR
PRODID:-//eluceo/ical//2.0/EN
VERSION:2.0
CALSCALE:GREGORIAN
BEGIN:VEVENT
UID:753641dc41da7b19e013ea4b19981915
DTSTAMP:20260423T065405Z
SUMMARY:Rabbi Suzanne Singer: Book of Job-How Do We Understand Evil in the 
 World?
DESCRIPTION:Jewish Federation of the Greater San Gabriel & Pomona Valleys\n
 COMMUNITY CALENDAR\nhttps://jewishsgpv.org/calendar/rabbi-suzanne-singer-b
 ook-of-job-how-do-we-understand-evil-in-the-world\n\nRabbi Suzanne Singer:
  The Book of Job - How Do We Understand Evil in the World? -The Suffering 
 of the Innocent and Job's Outrage. On Zoom\n\nPresented by Riverside Templ
 e Beth El\n\nRSVP: Email office@tberiv.org for the Zoom link\n\nA four-p
 art series: 1. The suffering of the Innocent and Job’s Outrage. 2. Rewar
 d and Punishment. 3. God and Job’s Response. 4. The Epilogue.
DTSTART;TZID=America/Los_Angeles:20220324T180000
DTEND;TZID=America/Los_Angeles:20220324T190000
END:VEVENT
END:VCALENDAR
