BEGIN:VCALENDAR
PRODID:-//eluceo/ical//2.0/EN
VERSION:2.0
CALSCALE:GREGORIAN
BEGIN:VEVENT
UID:25f834c7ac3aa8ad436cd3f5350c2665
DTSTAMP:20260419T194518Z
SUMMARY:Rabbi Carrier's "Ask Me Anything" live on Facebook\, YouTube\, and 
 Twitch
DESCRIPTION:Jewish Federation of the Greater San Gabriel & Pomona Valleys\n
 COMMUNITY CALENDAR\nhttps://jewishsgpv.org/calendar/rabbi-carriers-ask-me-
 anything-live-on-facebook-youtube-and-twitch\n\nRabbi Carrier's "Ask Me An
 ything" live on Facebook\, Youtube\, and Twitch\n\nVisit www.pjtc.net for 
 details\n 
DTSTART;TZID=America/Los_Angeles:20201001T150000
DTEND;TZID=America/Los_Angeles:20201001T160000
END:VEVENT
END:VCALENDAR
