BEGIN:VCALENDAR
PRODID:-//eluceo/ical//2.0/EN
VERSION:2.0
CALSCALE:GREGORIAN
BEGIN:VEVENT
UID:fac1657b952ef2fe8da371e830751525
DTSTAMP:20260423T040828Z
SUMMARY:Purim Story Walk in the Park
DESCRIPTION:Jewish Federation of the Greater San Gabriel & Pomona Valleys\n
 COMMUNITY CALENDAR\nhttps://jewishsgpv.org/calendar/purim-story-walk-in-th
 e-park\n\n
DTSTART;TZID=America/Los_Angeles:20220313T103000
DTEND;TZID=America/Los_Angeles:20220313T123000
END:VEVENT
END:VCALENDAR
