BEGIN:VCALENDAR
PRODID:-//eluceo/ical//2.0/EN
VERSION:2.0
CALSCALE:GREGORIAN
BEGIN:VEVENT
UID:90c16d05b263f4b2e5f960f383611a0e
DTSTAMP:20260420T153644Z
SUMMARY:Purim Celebration
DESCRIPTION:Jewish Federation of the Greater San Gabriel & Pomona Valleys\n
 COMMUNITY CALENDAR\nhttps://jewishsgpv.org/calendar/purim-celebration-reli
 gious-school\n\nPurim Celebration with the Religious School.\n\n 
DTSTART;TZID=America/Los_Angeles:20250314T190000
DTEND;TZID=America/Los_Angeles:20250314T210000
END:VEVENT
END:VCALENDAR
