BEGIN:VCALENDAR
PRODID:-//eluceo/ical//2.0/EN
VERSION:2.0
CALSCALE:GREGORIAN
BEGIN:VEVENT
UID:8d0f400be7d52fee4c1295054229dbdc
DTSTAMP:20260424T054835Z
SUMMARY:Purim Celebration
DESCRIPTION:Jewish Federation of the Greater San Gabriel & Pomona Valleys\n
 COMMUNITY CALENDAR\nhttps://jewishsgpv.org/calendar/purim-celebration-chab
 ad\n\n
DTSTART;TZID=America/Los_Angeles:20260302T190000
DTEND;TZID=America/Los_Angeles:20260302T220000
END:VEVENT
END:VCALENDAR
