BEGIN:VCALENDAR
PRODID:-//eluceo/ical//2.0/EN
VERSION:2.0
CALSCALE:GREGORIAN
BEGIN:VEVENT
UID:ab125c3e634d29237b798031a7f642f5
DTSTAMP:20260419T181738Z
SUMMARY:Purim Celebration
DESCRIPTION:Jewish Federation of the Greater San Gabriel & Pomona Valleys\n
 COMMUNITY CALENDAR\nhttps://jewishsgpv.org/calendar/purim-celebration\n\n
DTSTART;TZID=America/Los_Angeles:20240324T163000
DTEND;TZID=America/Los_Angeles:20240324T203000
END:VEVENT
END:VCALENDAR
