BEGIN:VCALENDAR
PRODID:-//eluceo/ical//2.0/EN
VERSION:2.0
CALSCALE:GREGORIAN
BEGIN:VEVENT
UID:58fdac4ce4d11f3e376c17610fcf28ad
DTSTAMP:20260422T002217Z
SUMMARY:Rancho Cucamonga Public Menorah Lighting
DESCRIPTION:Jewish Federation of the Greater San Gabriel & Pomona Valleys\n
 COMMUNITY CALENDAR\nhttps://jewishsgpv.org/calendar/public-menorah-lightin
 gs\n\n
DTSTART;TZID=America/Los_Angeles:20211129T183000
DTEND;TZID=America/Los_Angeles:20211129T203000
END:VEVENT
END:VCALENDAR
