BEGIN:VCALENDAR
PRODID:-//eluceo/ical//2.0/EN
VERSION:2.0
CALSCALE:GREGORIAN
BEGIN:VEVENT
UID:9af712cb2ae044d139eaf7fc86261867
DTSTAMP:20260423T051508Z
SUMMARY:Chanukah Festivals
DESCRIPTION:Jewish Federation of the Greater San Gabriel & Pomona Valleys\n
 COMMUNITY CALENDAR\nhttps://jewishsgpv.org/calendar/public-chanukah-festiv
 als\n\n
DTSTART;TZID=America/Los_Angeles:20221221T183000
DTEND;TZID=America/Los_Angeles:20221221T203000
END:VEVENT
END:VCALENDAR
