BEGIN:VCALENDAR
PRODID:-//eluceo/ical//2.0/EN
VERSION:2.0
CALSCALE:GREGORIAN
BEGIN:VEVENT
UID:80a669cfb93894fe4be81d653d20d198
DTSTAMP:20260420T153744Z
SUMMARY:Present-day dynamics of Holocaust Distortion
DESCRIPTION:Jewish Federation of the Greater San Gabriel & Pomona Valleys\n
 COMMUNITY CALENDAR\nhttps://jewishsgpv.org/calendar/present-day-dynamics-o
 f-holocaust-distortion\n\nPlease Join the Jewish Student Alliance\, York U
 niversity on Thursday November 11th at 7pm EST/ 4PM PST for a high-level d
 iscussion with Dr. Robert Williams about the present-day dynamics of Holoc
 aust Distortion. Holocaust Distortion is a growing phenomenon. It is a per
 nicious form of antisemitism and paves the road for Holocaust Denial. Holo
 caust distortion presents in manifold insidious ways\, which will be detai
 led in a 45 minute lecture with Dr. Williams\, the Deputy Director for Int
 ernation...
DTSTART;TZID=America/Los_Angeles:20211111T160000
DTEND;TZID=America/Los_Angeles:20211111T171500
END:VEVENT
END:VCALENDAR
