BEGIN:VCALENDAR
PRODID:-//eluceo/ical//2.0/EN
VERSION:2.0
CALSCALE:GREGORIAN
BEGIN:VEVENT
UID:d43be9d4821ea7db5fab768ae83cfb39
DTSTAMP:20260424T092059Z
SUMMARY:Pre-Passover Shabbat
DESCRIPTION:Jewish Federation of the Greater San Gabriel & Pomona Valleys\n
 COMMUNITY CALENDAR\nhttps://jewishsgpv.org/calendar/pre-passover\n\n
DTSTART;TZID=America/Los_Angeles:20250411T193000
DTEND;TZID=America/Los_Angeles:20250411T213000
END:VEVENT
END:VCALENDAR
