BEGIN:VCALENDAR
PRODID:-//eluceo/ical//2.0/EN
VERSION:2.0
CALSCALE:GREGORIAN
BEGIN:VEVENT
UID:a786c34eff7d9ed12ce2918b2bda567b
DTSTAMP:20260422T170323Z
SUMMARY:PJTC's Men's Club Awards
DESCRIPTION:Jewish Federation of the Greater San Gabriel & Pomona Valleys\n
 COMMUNITY CALENDAR\nhttps://jewishsgpv.org/calendar/pjtcs-mens-club-awards
 \n\nPJTC Men’s Club Member of the Year Annual Awards Dinner\, this year 
 presenting to Gregory Hunt\, Member of the Year\, and Stacy Miller and Jas
 on Moss\, Service to the Community Awards.\n\n \n\nJoin us Sunday\, April
  27\, at 6 PM for an awards presentation\, jazz band\, and sophisticated 
 comfort food dinner.\n\n\nClick here to purchase Tickets & Tributes or by 
 send a check payable to the PJTC Men's Club to the PJTC PO Box. 1355 N. M
 entor Ave | P.O. Box 41660 | Pasadena\, CA 91104 
DTSTART;TZID=America/Los_Angeles:20250427T180000
DTEND;TZID=America/Los_Angeles:20250427T200000
END:VEVENT
END:VCALENDAR
