BEGIN:VCALENDAR
PRODID:-//eluceo/ical//2.0/EN
VERSION:2.0
CALSCALE:GREGORIAN
BEGIN:VEVENT
UID:a1c284f00fbdfe09fcc582367550bd8c
DTSTAMP:20260423T211932Z
SUMMARY:PJTC Social Hall “Connecting With Your Jewish Community"
DESCRIPTION:Jewish Federation of the Greater San Gabriel & Pomona Valleys\n
 COMMUNITY CALENDAR\nhttps://jewishsgpv.org/calendar/pjtc-social-hall-conne
 cting-with-your-jewish-community\n\n PJTC Social Hall “Connecting With 
 Your Jewish Community"\n\nThursday 3/10 –7:30pm in person\n\nPresented b
 y the Pasadena Jewish Temple and Center\n\nContact info@pjtc.net for more 
 information
DTSTART;TZID=America/Los_Angeles:20220310T193000
DTEND;TZID=America/Los_Angeles:20220310T213000
END:VEVENT
END:VCALENDAR
