BEGIN:VCALENDAR
PRODID:-//eluceo/ical//2.0/EN
VERSION:2.0
CALSCALE:GREGORIAN
BEGIN:VEVENT
UID:3dca5f28bdffb9ee1cac1b99f75fa3fd
DTSTAMP:20260420T202637Z
SUMMARY:Annual Veterans Day Event | PJTC Mens Club
DESCRIPTION:Jewish Federation of the Greater San Gabriel & Pomona Valleys\n
 COMMUNITY CALENDAR\nhttps://jewishsgpv.org/calendar/pjtc-mens-club-annual-
 veterans-day-event\n\nClick here to RSVP and get Zoom link
DTSTART;TZID=America/Los_Angeles:20201108T100000
DTEND;TZID=America/Los_Angeles:20201108T120000
END:VEVENT
END:VCALENDAR
