BEGIN:VCALENDAR
PRODID:-//eluceo/ical//2.0/EN
VERSION:2.0
CALSCALE:GREGORIAN
BEGIN:VEVENT
UID:4da59c3c33108418a2cce70ceb48ad0d
DTSTAMP:20260423T214754Z
SUMMARY:PJ Our Way presents Mat Tonti
DESCRIPTION:Jewish Federation of the Greater San Gabriel & Pomona Valleys\n
 COMMUNITY CALENDAR\nhttps://jewishsgpv.org/calendar/pj-our-way-presents-ma
 t-tonti\n\nClick here to register
DTSTART;TZID=America/Los_Angeles:20210124T150000
DTEND;TZID=America/Los_Angeles:20210124T160000
END:VEVENT
END:VCALENDAR
