BEGIN:VCALENDAR
PRODID:-//eluceo/ical//2.0/EN
VERSION:2.0
CALSCALE:GREGORIAN
BEGIN:VEVENT
UID:14990201a9cbb23b962761676fc9c010
DTSTAMP:20260421T033734Z
SUMMARY:PJ Library's Swap-A-Card is back!!
DESCRIPTION:Jewish Federation of the Greater San Gabriel & Pomona Valleys\n
 COMMUNITY CALENDAR\nhttps://jewishsgpv.org/calendar/pj-librarys-swap-a-car
 d-is-back\n\nClick here to sign up
DTSTART;TZID=America/Los_Angeles:20210819T000000
DTEND;TZID=America/Los_Angeles:20210819T235959
END:VEVENT
END:VCALENDAR
