BEGIN:VCALENDAR
PRODID:-//eluceo/ical//2.0/EN
VERSION:2.0
CALSCALE:GREGORIAN
BEGIN:VEVENT
UID:4185b8a7a910d5f1b08e4b79f4b5eb7d
DTSTAMP:20260421T062521Z
SUMMARY:PJ Library presents: A Family Playdate at the Park with Bubbles
DESCRIPTION:Jewish Federation of the Greater San Gabriel & Pomona Valleys\n
 COMMUNITY CALENDAR\nhttps://jewishsgpv.org/calendar/pj-library-presents-a-
 family-playdate-at-the-park-with-bubbles\n\n
DTSTART;TZID=America/Los_Angeles:20220731T103000
DTEND;TZID=America/Los_Angeles:20220731T123000
END:VEVENT
END:VCALENDAR
