BEGIN:VCALENDAR
PRODID:-//eluceo/ical//2.0/EN
VERSION:2.0
CALSCALE:GREGORIAN
BEGIN:VEVENT
UID:82cb0f3947b49193949a1660dae4d38d
DTSTAMP:20260424T125659Z
SUMMARY:PJ Library Mom's Night Out
DESCRIPTION:Jewish Federation of the Greater San Gabriel & Pomona Valleys\n
 COMMUNITY CALENDAR\nhttps://jewishsgpv.org/calendar/pj-library-moms-night-
 out\n\nClick here to RSVP
DTSTART;TZID=America/Los_Angeles:20210504T000000
DTEND;TZID=America/Los_Angeles:20210504T235959
END:VEVENT
END:VCALENDAR
