BEGIN:VCALENDAR
PRODID:-//eluceo/ical//2.0/EN
VERSION:2.0
CALSCALE:GREGORIAN
BEGIN:VEVENT
UID:cc38921b2c1a8ab01752cbca28ae1077
DTSTAMP:20260425T133739Z
SUMMARY:PJ Library Hanukkah Party at Vroman's Book Store
DESCRIPTION:Jewish Federation of the Greater San Gabriel & Pomona Valleys\n
 COMMUNITY CALENDAR\nhttps://jewishsgpv.org/calendar/pj-library-hanukkah-pa
 rty-at-vromans-book-store\n\n
DTSTART;TZID=America/Los_Angeles:20241222T110000
DTEND;TZID=America/Los_Angeles:20241222T120000
END:VEVENT
END:VCALENDAR
