BEGIN:VCALENDAR
PRODID:-//eluceo/ical//2.0/EN
VERSION:2.0
CALSCALE:GREGORIAN
BEGIN:VEVENT
UID:7cdbc5d0bb51d4a56b82e617e35bd926
DTSTAMP:20260423T222149Z
SUMMARY:PJ Library Celebrates Sigd at the Playlab
DESCRIPTION:Jewish Federation of the Greater San Gabriel & Pomona Valleys\n
 COMMUNITY CALENDAR\nhttps://jewishsgpv.org/calendar/pj-library-celebrates-
 sigd-at-the-playlab\n\n
DTSTART;TZID=America/Los_Angeles:20251124T103000
DTEND;TZID=America/Los_Angeles:20251124T120000
END:VEVENT
END:VCALENDAR
