BEGIN:VCALENDAR
PRODID:-//eluceo/ical//2.0/EN
VERSION:2.0
CALSCALE:GREGORIAN
BEGIN:VEVENT
UID:eebfad22f57377aa70677c9e56738e21
DTSTAMP:20260421T103207Z
SUMMARY:Pirkei Avot Discussion Group
DESCRIPTION:Jewish Federation of the Greater San Gabriel & Pomona Valleys\n
 COMMUNITY CALENDAR\nhttps://jewishsgpv.org/calendar/pirkei-avot-discussion
 -group\n\nPirkei Avot Discussion Group - click here to join\n\n 
DTSTART;TZID=America/Los_Angeles:20211124T200000
DTEND;TZID=America/Los_Angeles:20211124T220000
END:VEVENT
END:VCALENDAR
