BEGIN:VCALENDAR
PRODID:-//eluceo/ical//2.0/EN
VERSION:2.0
CALSCALE:GREGORIAN
BEGIN:VEVENT
UID:dad3c739fdad3243ae0c4e1bb727f1d4
DTSTAMP:20260422T171700Z
SUMMARY:Science & Synapses: Physics and Faith with Dr. Thomas Rosenbaum
DESCRIPTION:Jewish Federation of the Greater San Gabriel & Pomona Valleys\n
 COMMUNITY CALENDAR\nhttps://jewishsgpv.org/calendar/physics-and-faith-with
 -dr-thomas-rosenbaum\n\nPJTC is the proud recipient of a grant from Scient
 ists in Synagogues for the 2022–2023 programming year. The Sinai and Syn
 apses project bridges the religious and scientific worlds\, offering peopl
 e a worldview that is scientifically grounded and spiritually uplifting. O
 ur project\, The Intersection of Judaism and Science: Coexisting Searches\
 , will leverage the presence of our congregation’s scientists and rabbis
  to explore the nexus of science and religion. We will be posing questions
  and e...
DTSTART;TZID=America/Los_Angeles:20220911T190000
DTEND;TZID=America/Los_Angeles:20220911T200000
END:VEVENT
END:VCALENDAR
