BEGIN:VCALENDAR
PRODID:-//eluceo/ical//2.0/EN
VERSION:2.0
CALSCALE:GREGORIAN
BEGIN:VEVENT
UID:ab960519f40a1fc2173b5259d25b15cd
DTSTAMP:20260425T170711Z
SUMMARY:"Peering Through Pain" with Rabbi Chaim Hanoka
DESCRIPTION:Jewish Federation of the Greater San Gabriel & Pomona Valleys\n
 COMMUNITY CALENDAR\nhttps://jewishsgpv.org/calendar/peering-through-pain-w
 ith-rabbi\n\nDear Friend\,\n\nI hope that you and your family are well and
  are managing in this difficult time\, I cannot think of a more appropriat
 e thing we should be doing than learning Torah to help strengthen our fait
 h and our sense of care for each other.\n\nBelow you can find the login in
 structions for tonight's class\, taking place online at 7pm.\n\nLogin Ins
 tructions:\nAhead of Time: Download the Zoom app to your com...
DTSTART;TZID=America/Los_Angeles:20200327T190000
DTEND;TZID=America/Los_Angeles:20200327T210000
END:VEVENT
END:VCALENDAR
