BEGIN:VCALENDAR
PRODID:-//eluceo/ical//2.0/EN
VERSION:2.0
CALSCALE:GREGORIAN
BEGIN:VEVENT
UID:b91c7dd86ce687c13e779a49ec857db4
DTSTAMP:20260425T032424Z
SUMMARY:Passover Joy |  Pesach Kits Ready for Pick up
DESCRIPTION:Jewish Federation of the Greater San Gabriel & Pomona Valleys\n
 COMMUNITY CALENDAR\nhttps://jewishsgpv.org/calendar/passover-joy-pesach-ki
 ts-ready-for-pick-up\n\n
DTSTART;TZID=America/Los_Angeles:20260327T000000
DTEND;TZID=America/Los_Angeles:20260327T235959
END:VEVENT
END:VCALENDAR
