BEGIN:VCALENDAR
PRODID:-//eluceo/ical//2.0/EN
VERSION:2.0
CALSCALE:GREGORIAN
BEGIN:VEVENT
UID:9c84d3d4f01552f3efb70bf48fcc1974
DTSTAMP:20260419T142938Z
SUMMARY:Passover Community Seder
DESCRIPTION:Jewish Federation of the Greater San Gabriel & Pomona Valleys\n
 COMMUNITY CALENDAR\nhttps://jewishsgpv.org/calendar/passover-community-sed
 er\n\n
DTSTART;TZID=America/Los_Angeles:20220415T193000
DTEND;TZID=America/Los_Angeles:20220415T220000
END:VEVENT
END:VCALENDAR
