BEGIN:VCALENDAR
PRODID:-//eluceo/ical//2.0/EN
VERSION:2.0
CALSCALE:GREGORIAN
BEGIN:VEVENT
UID:5d8e0d8cbcbd865f8c55c878f77e1f22
DTSTAMP:20260420T012858Z
SUMMARY:Passover Celebration
DESCRIPTION:Jewish Federation of the Greater San Gabriel & Pomona Valleys\n
 COMMUNITY CALENDAR\nhttps://jewishsgpv.org/calendar/passover-celebration\n
 \n
DTSTART;TZID=America/Los_Angeles:20260401T193000
DTEND;TZID=America/Los_Angeles:20260401T220000
END:VEVENT
END:VCALENDAR
