BEGIN:VCALENDAR
PRODID:-//eluceo/ical//2.0/EN
VERSION:2.0
CALSCALE:GREGORIAN
BEGIN:VEVENT
UID:54d1b080e358e6d8fdd26bef91c77032
DTSTAMP:20260424T003205Z
SUMMARY:Pandemic Playhouse  II- Short and Sweet
DESCRIPTION:Jewish Federation of the Greater San Gabriel & Pomona Valleys\n
 COMMUNITY CALENDAR\nhttps://jewishsgpv.org/calendar/pandemic-playhouse\n\n
 The Jewish Federation’s JFed Players are pleased to announce:\n\n“Pand
 emic Playhouse II\, Short and Sweet”\n\ndebuting on Sunday\, June 20th\,
  2021\, just in time for Father’s Day.  A brief\, virtual program\, con
 sisting of a short play and a monologue – just enough\, we hope\, to whe
 t your appetite for our return to LIVE productions with our Fall Play in O
 ctober.\n\nClick here to register for Pandemic Playhouse II\n\n\n\nClick h
 ere to RSVP
DTSTART;TZID=America/Los_Angeles:20210620T190000
DTEND;TZID=America/Los_Angeles:20210620T193000
END:VEVENT
END:VCALENDAR
