BEGIN:VCALENDAR
PRODID:-//eluceo/ical//2.0/EN
VERSION:2.0
CALSCALE:GREGORIAN
BEGIN:VEVENT
UID:62c7e20dee8c7d88f6f2a8db7d92ad83
DTSTAMP:20260421T120358Z
SUMMARY:Outdoor Menorah Lighting at Rancho Cucamonga Civic Center
DESCRIPTION:Jewish Federation of the Greater San Gabriel & Pomona Valleys\n
 COMMUNITY CALENDAR\nhttps://jewishsgpv.org/calendar/outdoor-menorah-lighti
 ng-at-rancho-cucamonga-civic-center\n\nOutdoor Menorah Lighting at Rancho 
 Cucamonga Civic Center
DTSTART;TZID=America/Los_Angeles:20201214T183000
DTEND;TZID=America/Los_Angeles:20201214T193000
END:VEVENT
END:VCALENDAR
