BEGIN:VCALENDAR
PRODID:-//eluceo/ical//2.0/EN
VERSION:2.0
CALSCALE:GREGORIAN
BEGIN:VEVENT
UID:b13f7352935344c7e0e62c3b822bc9be
DTSTAMP:20260421T175857Z
SUMMARY:Open House
DESCRIPTION:Jewish Federation of the Greater San Gabriel & Pomona Valleys\n
 COMMUNITY CALENDAR\nhttps://jewishsgpv.org/calendar/open-house\n\n
DTSTART;TZID=America/Los_Angeles:20250914T093000
DTEND;TZID=America/Los_Angeles:20250914T123000
END:VEVENT
END:VCALENDAR
