BEGIN:VCALENDAR
PRODID:-//eluceo/ical//2.0/EN
VERSION:2.0
CALSCALE:GREGORIAN
BEGIN:VEVENT
UID:862ad92e6963b78c68fa0bbc11bdcbb0
DTSTAMP:20260421T071456Z
SUMMARY:One America-Getting beyond Polarization
DESCRIPTION:Jewish Federation of the Greater San Gabriel & Pomona Valleys\n
 COMMUNITY CALENDAR\nhttps://jewishsgpv.org/calendar/one-america-getting-be
 yond-polarization\n\nGetting beyond Polarization On Zoom\n\nA co-presentat
 ion with Riverside Temple Beth El and Congregation Emanu El in Redlands.\n
 \nRSVP: Email office@tberiv.org for the Zoom link\n\nRabbi Rachel Shmelk
 in from One America will discuss the history of how we became polarized an
 d offer ways to reach across the divide. She believes that misperceptions 
 on both sides have contributed to this situation. A co-presentation with C
 ongregation Emanu El in Redlands.
DTSTART;TZID=America/Los_Angeles:20220306T170000
DTEND;TZID=America/Los_Angeles:20220306T190000
END:VEVENT
END:VCALENDAR
