BEGIN:VCALENDAR
PRODID:-//eluceo/ical//2.0/EN
VERSION:2.0
CALSCALE:GREGORIAN
BEGIN:VEVENT
UID:4437391ee50108a93039ca6710ba4d7d
DTSTAMP:20260420T230202Z
SUMMARY:Shabbat Evening Services at Beth Shalom of Whittier
DESCRIPTION:Jewish Federation of the Greater San Gabriel & Pomona Valleys\n
 COMMUNITY CALENDAR\nhttps://jewishsgpv.org/calendar/november-29-shabbat-ev
 ening-services\n\nWe welcome you to our Shabbat Evening service with Rabbi
  Kenneth Milhander\, Hon DDiv.  An oneg will follow the service in our fo
 yer.
DTSTART;TZID=America/Los_Angeles:20241129T193000
DTEND;TZID=America/Los_Angeles:20241129T204500
END:VEVENT
END:VCALENDAR
