BEGIN:VCALENDAR
PRODID:-//eluceo/ical//2.0/EN
VERSION:2.0
CALSCALE:GREGORIAN
BEGIN:VEVENT
UID:293d19de6af6cda828aed4688e5c0752
DTSTAMP:20260420T221253Z
SUMMARY:Shabbat Evening Services at Beth Shalom of Whittier
DESCRIPTION:Jewish Federation of the Greater San Gabriel & Pomona Valleys\n
 COMMUNITY CALENDAR\nhttps://jewishsgpv.org/calendar/november-22-shabbat-ev
 ening-services\n\nJoin us for Shabbat Evening Services conducted by Hazzan
  Lance H Tapper\, Hon DMus\, Spiritual Leader and Ty Woodward\, Organist.
   An oneg will follow the service in our foyer.  All are invited to atte
 nd. 
DTSTART;TZID=America/Los_Angeles:20241122T192500
DTEND;TZID=America/Los_Angeles:20241122T204500
END:VEVENT
END:VCALENDAR
