BEGIN:VCALENDAR
PRODID:-//eluceo/ical//2.0/EN
VERSION:2.0
CALSCALE:GREGORIAN
BEGIN:VEVENT
UID:fa37cb50cf8b9836a6c4336e52648c35
DTSTAMP:20260421T183359Z
SUMMARY:New Member BBQ Havdalah Sponsored by Men's Club\, Sisterhood & USCJ
DESCRIPTION:Jewish Federation of the Greater San Gabriel & Pomona Valleys\n
 COMMUNITY CALENDAR\nhttps://jewishsgpv.org/calendar/new-member-bbq-havdala
 h-sponsored-by-mens-club-sisterhood-uscj\n\nBBQ dinner sponsored by Men's 
 Club and Sisterhood.Bounce house. Socially-distanced art projects a la Jud
 aism in the Home--Makeyour own havdalah candles and spice boxes. ACTIVITIE
 S FOR ALL AGES
DTSTART;TZID=America/Los_Angeles:20211113T173000
DTEND;TZID=America/Los_Angeles:20211113T200000
END:VEVENT
END:VCALENDAR
